BEGIN:VCALENDAR
VERSION:2.0
PRODID:-//Emcare Solutions - ECPv6.10.1.1//NONSGML v1.0//EN
CALSCALE:GREGORIAN
METHOD:PUBLISH
X-WR-CALNAME:Emcare Solutions
X-ORIGINAL-URL:https://emcare.co.uk
X-WR-CALDESC:Events for Emcare Solutions
REFRESH-INTERVAL;VALUE=DURATION:PT1H
X-Robots-Tag:noindex
X-PUBLISHED-TTL:PT1H
BEGIN:VTIMEZONE
TZID:UTC
BEGIN:STANDARD
TZOFFSETFROM:+0000
TZOFFSETTO:+0000
TZNAME:UTC
DTSTART:20170101T000000
END:STANDARD
END:VTIMEZONE
BEGIN:VEVENT
DTSTART;TZID=UTC:20170222T080000
DTEND;TZID=UTC:20170222T170000
DTSTAMP:20260423T151206
CREATED:20170219T205915Z
LAST-MODIFIED:20170219T210500Z
UID:13785-1487750400-1487782800@emcare.co.uk
SUMMARY:Epilepsy and Rescue Medication Administration Awareness
DESCRIPTION:
URL:https://emcare.co.uk/training/epilepsy-and-rescue-medication-administration-awareness/
CATEGORIES:Social Care
END:VEVENT
BEGIN:VEVENT
DTSTART;TZID=UTC:20170222T080000
DTEND;TZID=UTC:20170222T170000
DTSTAMP:20260423T151206
CREATED:20170219T210010Z
LAST-MODIFIED:20170219T210500Z
UID:13787-1487750400-1487782800@emcare.co.uk
SUMMARY:Epilepsy Awareness
DESCRIPTION:
URL:https://emcare.co.uk/training/epilepsy-awareness/
CATEGORIES:Social Care
END:VEVENT
END:VCALENDAR